BEGIN:VCALENDAR
VERSION:2.0
PRODID:-//Legacy Seeds - ECPv6.15.20//NONSGML v1.0//EN
CALSCALE:GREGORIAN
METHOD:PUBLISH
X-WR-CALNAME:Legacy Seeds
X-ORIGINAL-URL:https://legacyseeds.com
X-WR-CALDESC:Events for Legacy Seeds
REFRESH-INTERVAL;VALUE=DURATION:PT1H
X-Robots-Tag:noindex
X-PUBLISHED-TTL:PT1H
BEGIN:VTIMEZONE
TZID:America/Chicago
BEGIN:DAYLIGHT
TZOFFSETFROM:-0600
TZOFFSETTO:-0500
TZNAME:CDT
DTSTART:20210314T080000
END:DAYLIGHT
BEGIN:STANDARD
TZOFFSETFROM:-0500
TZOFFSETTO:-0600
TZNAME:CST
DTSTART:20211107T070000
END:STANDARD
BEGIN:DAYLIGHT
TZOFFSETFROM:-0600
TZOFFSETTO:-0500
TZNAME:CDT
DTSTART:20220313T080000
END:DAYLIGHT
BEGIN:STANDARD
TZOFFSETFROM:-0500
TZOFFSETTO:-0600
TZNAME:CST
DTSTART:20221106T070000
END:STANDARD
BEGIN:DAYLIGHT
TZOFFSETFROM:-0600
TZOFFSETTO:-0500
TZNAME:CDT
DTSTART:20230312T080000
END:DAYLIGHT
BEGIN:STANDARD
TZOFFSETFROM:-0500
TZOFFSETTO:-0600
TZNAME:CST
DTSTART:20231105T070000
END:STANDARD
BEGIN:DAYLIGHT
TZOFFSETFROM:-0600
TZOFFSETTO:-0500
TZNAME:CDT
DTSTART:20240310T080000
END:DAYLIGHT
BEGIN:STANDARD
TZOFFSETFROM:-0500
TZOFFSETTO:-0600
TZNAME:CST
DTSTART:20241103T070000
END:STANDARD
END:VTIMEZONE
BEGIN:VEVENT
DTSTART;VALUE=DATE:20230718
DTEND;VALUE=DATE:20230721
DTSTAMP:20260421T033649
CREATED:20230111T212857Z
LAST-MODIFIED:20230111T212857Z
UID:10000021-1689638400-1689897599@legacyseeds.com
SUMMARY:Wisconsin Farm Technology Days
DESCRIPTION:The 2023 Wisconsin Farm Technology Days show will be held at the Badger Steam & Gas Engine Club’s grounds conveniently located just off Interstate 90/94 at Exit 92 in Wisconsin Dells. \nStop by our booth. At Legacy Seeds we are committed to taking the time to understand your farm’s needs.
URL:https://legacyseeds.com/event/wisconsin-farm-technology-days-2/
LOCATION:Wisconsin Farm Technology Days\, S3347 Sand Rd\, Baraboo\, WI\, 53913
CATEGORIES:Farm Show
ATTACH;FMTTYPE=image/png:https://legacyseeds.com/wp-content/uploads/2023/01/Baraboo_logo-WFTD-high-resolution-02-1920w.png
GEO:43.5199995;-89.8053844
X-APPLE-STRUCTURED-LOCATION;VALUE=URI;X-ADDRESS=Wisconsin Farm Technology Days S3347 Sand Rd Baraboo WI 53913;X-APPLE-RADIUS=500;X-TITLE=S3347 Sand Rd:geo:-89.8053844,43.5199995
END:VEVENT
BEGIN:VEVENT
DTSTART;VALUE=DATE:20230328
DTEND;VALUE=DATE:20230331
DTSTAMP:20260421T033649
CREATED:20230111T212056Z
LAST-MODIFIED:20230111T212109Z
UID:10000020-1679961600-1680220799@legacyseeds.com
SUMMARY:WPS Farm Show
DESCRIPTION:Let’s catch up at the 61st WPS Farm Show\, an opportunity for agricultural businesses and the community to check out the latest in farm equipment\, services and technology from around 400 exhibitors throughout the U.S. and Canada.
URL:https://legacyseeds.com/event/wps-farm-show/
LOCATION:EEA Grounds\, 1001 Waukau Ave.\, Oshkosh\, WI\, 54902
CATEGORIES:Farm Show
ATTACH;FMTTYPE=image/jpeg:https://legacyseeds.com/wp-content/uploads/2023/01/farm-show2022-1920.jpg
GEO:43.9812152;-88.5629639
X-APPLE-STRUCTURED-LOCATION;VALUE=URI;X-ADDRESS=EEA Grounds 1001 Waukau Ave. Oshkosh WI 54902;X-APPLE-RADIUS=500;X-TITLE=1001 Waukau Ave.:geo:-88.5629639,43.9812152
END:VEVENT
BEGIN:VEVENT
DTSTART;VALUE=DATE:20230316
DTEND;VALUE=DATE:20230319
DTSTAMP:20260421T033649
CREATED:20230111T210228Z
LAST-MODIFIED:20230111T210228Z
UID:10000019-1678924800-1679183999@legacyseeds.com
SUMMARY:North American Farm & Power Show
DESCRIPTION:Who is at the North American Farm & Power Show? \nLegacy Seeds will be\, in addition to other industry leading innovators in agriculture technology\, equipment\, and science to the front step of America’s farming heartland. \nLegacy Seeds builds the legacy of your farm by offering custom\, high performing food and feed solutions with the optimal combination of yield and quality.
URL:https://legacyseeds.com/event/north-american-farm-power-show/
LOCATION:Four Seasons Centre\, 1525 S Elm Ave\, Owatonna\, MN\, 55060
CATEGORIES:Farm Show
ATTACH;FMTTYPE=image/jpeg:https://legacyseeds.com/wp-content/uploads/2023/01/tradexpos-0018-nafps-2019-10.jpg
GEO:44.0678754;-93.2250573
X-APPLE-STRUCTURED-LOCATION;VALUE=URI;X-ADDRESS=Four Seasons Centre 1525 S Elm Ave Owatonna MN 55060;X-APPLE-RADIUS=500;X-TITLE=1525 S Elm Ave:geo:-93.2250573,44.0678754
END:VEVENT
BEGIN:VEVENT
DTSTART;VALUE=DATE:20230307
DTEND;VALUE=DATE:20230309
DTSTAMP:20260421T033649
CREATED:20230111T205454Z
LAST-MODIFIED:20230111T205454Z
UID:10000018-1678147200-1678319999@legacyseeds.com
SUMMARY:Eau Claire Farm Show
DESCRIPTION:Attending the Eau Claire Farm Show? \nWe want to learn more about your farms needs\, stop by our booth.
URL:https://legacyseeds.com/event/eau-claire-farm-show/
LOCATION:Chippewa Valley Expo Center\, 5150 Old Mill Plaza\, Eau Clarie\, WI\, 54703
CATEGORIES:Farm Show
ATTACH;FMTTYPE=image/jpeg:https://legacyseeds.com/wp-content/uploads/2022/12/October-1001-scaled.jpg
GEO:44.8452896;-91.5852114
X-APPLE-STRUCTURED-LOCATION;VALUE=URI;X-ADDRESS=Chippewa Valley Expo Center 5150 Old Mill Plaza Eau Clarie WI 54703;X-APPLE-RADIUS=500;X-TITLE=5150 Old Mill Plaza:geo:-91.5852114,44.8452896
END:VEVENT
BEGIN:VEVENT
DTSTART;VALUE=DATE:20230228
DTEND;VALUE=DATE:20230302
DTSTAMP:20260421T033649
CREATED:20230111T204850Z
LAST-MODIFIED:20230111T204850Z
UID:10000017-1677542400-1677715199@legacyseeds.com
SUMMARY:Central MN Farm Show
DESCRIPTION:Attending the Central MN Farm Show? \nStop by our booth and talk to Tim about customized forage solutions for your farm.
URL:https://legacyseeds.com/event/central-mn-farm-show/
LOCATION:WI
CATEGORIES:Farm Show
ATTACH;FMTTYPE=image/jpeg:https://legacyseeds.com/wp-content/uploads/2022/08/Legacy_Drone_August2022-2-scaled.jpg
END:VEVENT
BEGIN:VEVENT
DTSTART;VALUE=DATE:20230202
DTEND;VALUE=DATE:20230204
DTSTAMP:20260421T033649
CREATED:20230111T202642Z
LAST-MODIFIED:20230111T204352Z
UID:10000016-1675296000-1675468799@legacyseeds.com
SUMMARY:Wisconsin Corn & Soy Expo
DESCRIPTION:The Wisconsin Corn & Soy Expo is Wisconsin’s premier grower event where the Wisconsin Soybean Programs\, Wisconsin Corn Programs\, and the Wisconsin Pork Association bring together over 1\,200 corn and soybean growers and pork producers. \nStop by our booth to in the tradeshow\, we look forward to helping you build your legacy.
URL:https://legacyseeds.com/event/wisconsin-corn-soy-expo/
LOCATION:Kalahari Conference Center\, Wisconsin Dells\, 1305 Kalahari Drive\, Wisconsin Dells\, WI\, 53965\, United States
CATEGORIES:Farm Show
ATTACH;FMTTYPE=image/png:https://legacyseeds.com/wp-content/uploads/2023/01/corn-soy-expo-logo_350.png
GEO:43.5710576;-89.7743408
X-APPLE-STRUCTURED-LOCATION;VALUE=URI;X-ADDRESS=Kalahari Conference Center Wisconsin Dells 1305 Kalahari Drive Wisconsin Dells WI 53965 United States;X-APPLE-RADIUS=500;X-TITLE=1305 Kalahari Drive:geo:-89.7743408,43.5710576
END:VEVENT
BEGIN:VEVENT
DTSTART;VALUE=DATE:20230125
DTEND;VALUE=DATE:20230126
DTSTAMP:20260421T033649
CREATED:20230112T191932Z
LAST-MODIFIED:20230112T193224Z
UID:10000023-1674604800-1674691199@legacyseeds.com
SUMMARY:Tour de Forage
DESCRIPTION:Attending a stop on the Midwest Forage Association Tour de Forage? \nSo are we!  At these regionalized stops\, we are excited to discuss current trends\, challenges and how to partner to improve the forage you are producing.
URL:https://legacyseeds.com/event/tour-de-forage/2023-01-25/
LOCATION:WI
CATEGORIES:Farm Show
ATTACH;FMTTYPE=image/jpeg:https://legacyseeds.com/wp-content/uploads/2023/01/Tourdeforageheader2023-e1673550944620.jpg
END:VEVENT
BEGIN:VEVENT
DTSTART;VALUE=DATE:20230125
DTEND;VALUE=DATE:20230128
DTSTAMP:20260421T033649
CREATED:20230111T201908Z
LAST-MODIFIED:20230111T215657Z
UID:10000015-1674604800-1674863999@legacyseeds.com
SUMMARY:Sioux Falls Farm Show
DESCRIPTION:Legacy Seeds builds the legacy of your farm by offering custom\, high performing food and feed solutions with the optimal combination of yield and quality. \nStop by our booth at the 26th annual Sioux Falls Farm Show to talk grain and forage products to optimize your operation.
URL:https://legacyseeds.com/event/sioux-falls-farm-show/
LOCATION:Sioux Falls Convention Center\, 1201 N W Ave\, Sioux Falls\, south dakota\, 57104
CATEGORIES:Farm Show
ATTACH;FMTTYPE=image/png:https://legacyseeds.com/wp-content/uploads/2023/01/1375982_659912280710291_542377379_n.png
GEO:43.5617476;-96.7499011
X-APPLE-STRUCTURED-LOCATION;VALUE=URI;X-ADDRESS=Sioux Falls Convention Center 1201 N W Ave Sioux Falls south dakota 57104;X-APPLE-RADIUS=500;X-TITLE=1201 N W Ave:geo:-96.7499011,43.5617476
END:VEVENT
BEGIN:VEVENT
DTSTART;VALUE=DATE:20230124
DTEND;VALUE=DATE:20230125
DTSTAMP:20260421T033649
CREATED:20230112T191932Z
LAST-MODIFIED:20230112T193224Z
UID:10000022-1674518400-1674604799@legacyseeds.com
SUMMARY:Tour de Forage
DESCRIPTION:Attending a stop on the Midwest Forage Association Tour de Forage? \nSo are we!  At these regionalized stops\, we are excited to discuss current trends\, challenges and how to partner to improve the forage you are producing.
URL:https://legacyseeds.com/event/tour-de-forage/2023-01-24/
LOCATION:WI
CATEGORIES:Farm Show
ATTACH;FMTTYPE=image/jpeg:https://legacyseeds.com/wp-content/uploads/2023/01/Tourdeforageheader2023-e1673550944620.jpg
END:VEVENT
BEGIN:VEVENT
DTSTART;VALUE=DATE:20230118
DTEND;VALUE=DATE:20230120
DTSTAMP:20260421T033649
CREATED:20230111T201230Z
LAST-MODIFIED:20230111T215633Z
UID:10000014-1674000000-1674172799@legacyseeds.com
SUMMARY:MN Ag Expo
DESCRIPTION:Going to the MN AG EXPO? \nLet’s connect January 18-19\, 2023 during MN AG EXPO at the Mayo Clinic Health System Event Center in Mankato. Over the course of two days\, Minnesota’s marquee winter agriculture gathering sets our sights on the future by offering networking opportunities; educational sessions; a full trade show floor; dynamic speakers; fundraising events – and more! \nMN AG EXPO is a jointly hosted event between the Minnesota Soybean Growers Association and the Minnesota Corn Growers Association.
URL:https://legacyseeds.com/event/mn-ag-expo/
LOCATION:Mayo Clinic Event center\, Mayo Clinic Event Center 1 Civic Center Plaza\, Mankato\, MN\, 56001
CATEGORIES:Farm Show
ATTACH;FMTTYPE=image/jpeg:https://legacyseeds.com/wp-content/uploads/2023/01/ag-expo-logo-final-version.jpg
GEO:44.1662848;-94.0046107
X-APPLE-STRUCTURED-LOCATION;VALUE=URI;X-ADDRESS=Mayo Clinic Event center Mayo Clinic Event Center 1 Civic Center Plaza Mankato MN 56001;X-APPLE-RADIUS=500;X-TITLE=Mayo Clinic Event Center 1 Civic Center Plaza:geo:-94.0046107,44.1662848
END:VEVENT
BEGIN:VEVENT
DTSTART;TZID=America/Chicago:20220913T090000
DTEND;TZID=America/Chicago:20220915T160000
DTSTAMP:20260421T033649
CREATED:20220816T174127Z
LAST-MODIFIED:20220816T174127Z
UID:10000011-1663059600-1663257600@legacyseeds.com
SUMMARY:Big Iron Farm Show
DESCRIPTION:Stop by our booth and learn more about how Legacy Seeds is partnering with you to feed the world.
URL:https://legacyseeds.com/event/big-iron-farm-show/
LOCATION:Red River Valley Fair Grounds\, 1805 Main Avenue West\, West Fargo\, ND\, 58078\, United States
CATEGORIES:Farm Show
ATTACH;FMTTYPE=image/jpeg:https://legacyseeds.com/wp-content/uploads/2022/08/BigIron.jpg
GEO:46.8748448;-96.9254856
X-APPLE-STRUCTURED-LOCATION;VALUE=URI;X-ADDRESS=Red River Valley Fair Grounds 1805 Main Avenue West West Fargo ND 58078 United States;X-APPLE-RADIUS=500;X-TITLE=1805 Main Avenue West:geo:-96.9254856,46.8748448
END:VEVENT
END:VCALENDAR